BEGIN:VCALENDAR
PRODID:-//eluceo/ical//2.0/EN
VERSION:2.0
CALSCALE:GREGORIAN
BEGIN:VEVENT
UID:7112e2bd41a97458ea89858a8a7cf520
DTSTAMP:20260419T123902Z
SUMMARY:Conférence de Gerard Barron sur le bénévolat et les actions de l
 a SNSM de Boulogne sur mer
DESCRIPTION:
URL:https://boulogne-sur-mer.rotaryd1520.org/fr/agenda/show/55640
DTSTART;TZID=Europe/Zurich:20260423T193000
DTEND;TZID=Europe/Zurich:20260423T193000
LOCATION:Restaurant La Matelote Boulogne sur mer
CATEGORIES:Rotary
END:VEVENT
BEGIN:VTIMEZONE
TZID:Europe/Zurich
BEGIN:DAYLIGHT
DTSTART:20260423T193000
TZNAME:CEST
TZOFFSETTO:+0200
TZOFFSETFROM:+0200
END:DAYLIGHT
END:VTIMEZONE
END:VCALENDAR
